BEGIN:VCALENDAR
VERSION:2.0
PRODID:-//BikePilgrim.com - ECPv6.3.3.1//NONSGML v1.0//EN
CALSCALE:GREGORIAN
METHOD:PUBLISH
X-ORIGINAL-URL:https://bikepilgrim.com
X-WR-CALDESC:Events for BikePilgrim.com
REFRESH-INTERVAL;VALUE=DURATION:PT1H
X-Robots-Tag:noindex
X-PUBLISHED-TTL:PT1H
BEGIN:VTIMEZONE
TZID:America/Phoenix
BEGIN:STANDARD
TZOFFSETFROM:-0700
TZOFFSETTO:-0700
TZNAME:MST
DTSTART:20240101T000000
END:STANDARD
END:VTIMEZONE
BEGIN:VEVENT
DTSTART;TZID=America/Phoenix:20251102T080000
DTEND;TZID=America/Phoenix:20251102T140000
DTSTAMP:20260420T193926
CREATED:20240302T125201Z
LAST-MODIFIED:20251007T235439Z
UID:10003563-1762070400-1762092000@bikepilgrim.com
SUMMARY:Dirty Bunny
DESCRIPTION:drinking’ of the greatest events of all time. The Dirty Bunny is everything good about Mountain Biking all distilled into an incredible weekend. It’s a drinking ride with a bike problem. It is a race. It is timed. There are winners. But if that is all you care about\, it might not be the event for you (but it might). It’s about the community. Gathering with like minded people in the desert and having a great time. There is drinking and other mind altering good times (riding bikes can take you to magical and mysterious places). People dress in costumes. Some even wear spandex. \nIn many ways it is 24 hours in the Old Pueblo for the locals\, but with a small entry fee of $10 to cover incidentals and a 6 pack of craft beer. That is CRAFT beer with an F. Not any of that F’ing CRAP beer. Don’t be showing up with your PBR for the entry fee… but feel free to bring your bud light\, PBR or  dos equis for the lush bunny. What’s the lush Bunny you ask? Why that would be the same race\, but with the consumption of a can of piss water each lap. \nSo\, if you think you are one of the The cool cats\, The in crowd\, Those in the Knows\, this might be the event for you. \nA few videos from past events to give you a vibe. \nhttps://www.facebook.com/damion.alexander.9/videos/2069049946801997 \nhttps://www.facebook.com/damion.alexander.9/videos/196962712478668
URL:https://bikepilgrim.com/event/dirty-bunny/
LOCATION:McKenzie Ranch Trailhead\, 12725 S Red Hill Ranch Road\, Vail\, Arizona\, 85641
CATEGORIES:and possibly nudity,Arizona,Camping,Drinking,drinking and smoking,Entry Fee,Mountain Bike,No Drop,Tucson
ORGANIZER;CN="Dirty Bunny Productions":MAILTO:dirtybunnytucson@gmail.com
END:VEVENT
BEGIN:VEVENT
DTSTART;VALUE=DATE:20240202
DTEND;VALUE=DATE:20240205
DTSTAMP:20260420T193927
CREATED:20240201T054757Z
LAST-MODIFIED:20240202T022844Z
UID:10001894-1706832000-1707091199@bikepilgrim.com
SUMMARY:SSAZ-Single Speed AZ
DESCRIPTION:SS. If you get it\, get it. If not\, probably not your event and people. \nWhat your entry fee gets you… \n\n\n\n\n\n\n\n\n\n\n\n\n\n\n\n\n\n\n\n\n\nIf you’re camping with us you can expect:\n\n\n\n\n\n\n\n\n\n\nSaturday night Street Taco buffet \n\n\nLive bands  \n\n\nHosting competition and other shenanigans \n\n\nSSAZ swag\, patch\, etc. \n\n\nReserved car/tent camping at a campground (bathrooms available\, no hook-ups) \n\n\nBonfire/firewood \n\n\n\n\nFuck off if you’re not camping\, you can expect:\n\n\n\n\n\n\n\n\n\n\nSaturday night Street Taco buffet \n\n\nLive bands \n\n\nHosting competition and other shenanigans \n\n\nSSAZ swag\, patch\, etc. \n\n\nBOREDOM! \n\n\n\n\n  \n\n\n\n\n\nSchedule \n\n\n\n\n\n\n\n\n\n\n\n\n\n Friday \n\n\n1:00pm register at Transit Cycles. Give us your cash! \n\n\n3:00pm group ride. Tour of A Mountain \n\n\n5:00pm back at Transit Cycles welcome shenanigans \n\n\n8:00pm campsite migration and bonfire \n\n\n\n\nSaturday \n\n\n10:00ish rides start from the Campground. Bring lights!  \n\n\nMultiple routes based on ability – you will need Trail forks or the gpx loaded to your device \n\n\n2:00ish riders gathering at Kennedy Park\, Ramada 40 \n\n\n5:00pm we ride to Lazy V (2812 W Alvaro Rd) for 2025 hosting competition & Feats of Strength. Bar is cash-only!!! \n\n\nFood will be provided \n\n\n7ish bands begin \n\n\n9:00ish migrate back to the Campground \n\n\n\n\nSunday \n\n\nGTFO! \n\n\n\n\nDon’t fucking hold me to it! We’re fluid.
URL:https://bikepilgrim.com/event/ssaz-single-speed-az/
LOCATION:Arizona
CATEGORIES:and possibly nudity,Arizona,Bonfire,Camping,drinking and smoking,Live Music,Mountain Bike,MTB,Nothing that is illegal in Amsterdam,Party On Wheels,Transit Cycles
END:VEVENT
END:VCALENDAR