BEGIN:VCALENDAR
VERSION:2.0
PRODID:-//BikePilgrim.com - ECPv6.3.3.1//NONSGML v1.0//EN
CALSCALE:GREGORIAN
METHOD:PUBLISH
X-WR-CALNAME:BikePilgrim.com
X-ORIGINAL-URL:https://bikepilgrim.com
X-WR-CALDESC:Events for BikePilgrim.com
REFRESH-INTERVAL;VALUE=DURATION:PT1H
X-Robots-Tag:noindex
X-PUBLISHED-TTL:PT1H
BEGIN:VTIMEZONE
TZID:America/Phoenix
BEGIN:STANDARD
TZOFFSETFROM:-0700
TZOFFSETTO:-0700
TZNAME:MST
DTSTART:20300101T000000
END:STANDARD
END:VTIMEZONE
BEGIN:VEVENT
DTSTART;TZID=America/Phoenix:20300713T150000
DTEND;TZID=America/Phoenix:20300713T180000
DTSTAMP:20260424T074622
CREATED:20251008T005953Z
LAST-MODIFIED:20251008T010318Z
UID:10004246-1910185200-1910196000@bikepilgrim.com
SUMMARY:BICAS Crafternoons
DESCRIPTION:DescriptionDrop in and make some art at BICAS! Every Thursday\, 3-6pm. All are welcome\, and participation is free! Check-in at our front counter\, and they’ll show you to our art area\, where you’ll be introduced to what you can create and have free access to our art supplies\, recycled bicycle art parts\, art tools\, and other art materials. After your creation is complete\, please leave a suggested donation or donate your art to our non-profit organization. We hope to see you there\, and let’s make some art! \nNOTAFLOF event\, no one turned away from lack of funds. All are welcome! \nSee our Facebook discussion (@bicasart) for weekly updates\, as every week our hosts pick out different projects to work on. Our weekly art corners are not workshops; they are casual art drop-ins. Please see our other art workshops at an additional cost. www.bicas.org/art/workshops/https://fb.me/e/1kEo62aFT \nFollow us on Insta @bicasart for more! \nhttps://www.instagram.com/bicasart/ \n\n\n\nmore details»  copy to my calendar»
URL:https://bikepilgrim.com/event/art-corner-at-bicas-2/2030-07-13/
LOCATION:BICAS – Bicycle Inter-Community Art and Salvage\, 2001 N 7th Ave\, Tucson\, AZ\, 85705
CATEGORIES:Art,BICAS,Free
ORGANIZER;CN="BICAS":MAILTO:bicas@bicas.org
END:VEVENT
BEGIN:VEVENT
DTSTART;TZID=America/Phoenix:20300720T150000
DTEND;TZID=America/Phoenix:20300720T180000
DTSTAMP:20260424T074622
CREATED:20251008T005953Z
LAST-MODIFIED:20251008T010318Z
UID:10004247-1910790000-1910800800@bikepilgrim.com
SUMMARY:BICAS Crafternoons
DESCRIPTION:DescriptionDrop in and make some art at BICAS! Every Thursday\, 3-6pm. All are welcome\, and participation is free! Check-in at our front counter\, and they’ll show you to our art area\, where you’ll be introduced to what you can create and have free access to our art supplies\, recycled bicycle art parts\, art tools\, and other art materials. After your creation is complete\, please leave a suggested donation or donate your art to our non-profit organization. We hope to see you there\, and let’s make some art! \nNOTAFLOF event\, no one turned away from lack of funds. All are welcome! \nSee our Facebook discussion (@bicasart) for weekly updates\, as every week our hosts pick out different projects to work on. Our weekly art corners are not workshops; they are casual art drop-ins. Please see our other art workshops at an additional cost. www.bicas.org/art/workshops/https://fb.me/e/1kEo62aFT \nFollow us on Insta @bicasart for more! \nhttps://www.instagram.com/bicasart/ \n\n\n\nmore details»  copy to my calendar»
URL:https://bikepilgrim.com/event/art-corner-at-bicas-2/2030-07-20/
LOCATION:BICAS – Bicycle Inter-Community Art and Salvage\, 2001 N 7th Ave\, Tucson\, AZ\, 85705
CATEGORIES:Art,BICAS,Free
ORGANIZER;CN="BICAS":MAILTO:bicas@bicas.org
END:VEVENT
BEGIN:VEVENT
DTSTART;TZID=America/Phoenix:20300727T150000
DTEND;TZID=America/Phoenix:20300727T180000
DTSTAMP:20260424T074622
CREATED:20251008T005953Z
LAST-MODIFIED:20251008T010318Z
UID:10004248-1911394800-1911405600@bikepilgrim.com
SUMMARY:BICAS Crafternoons
DESCRIPTION:DescriptionDrop in and make some art at BICAS! Every Thursday\, 3-6pm. All are welcome\, and participation is free! Check-in at our front counter\, and they’ll show you to our art area\, where you’ll be introduced to what you can create and have free access to our art supplies\, recycled bicycle art parts\, art tools\, and other art materials. After your creation is complete\, please leave a suggested donation or donate your art to our non-profit organization. We hope to see you there\, and let’s make some art! \nNOTAFLOF event\, no one turned away from lack of funds. All are welcome! \nSee our Facebook discussion (@bicasart) for weekly updates\, as every week our hosts pick out different projects to work on. Our weekly art corners are not workshops; they are casual art drop-ins. Please see our other art workshops at an additional cost. www.bicas.org/art/workshops/https://fb.me/e/1kEo62aFT \nFollow us on Insta @bicasart for more! \nhttps://www.instagram.com/bicasart/ \n\n\n\nmore details»  copy to my calendar»
URL:https://bikepilgrim.com/event/art-corner-at-bicas-2/2030-07-27/
LOCATION:BICAS – Bicycle Inter-Community Art and Salvage\, 2001 N 7th Ave\, Tucson\, AZ\, 85705
CATEGORIES:Art,BICAS,Free
ORGANIZER;CN="BICAS":MAILTO:bicas@bicas.org
END:VEVENT
BEGIN:VEVENT
DTSTART;TZID=America/Phoenix:20300803T150000
DTEND;TZID=America/Phoenix:20300803T180000
DTSTAMP:20260424T074622
CREATED:20251008T005953Z
LAST-MODIFIED:20251008T010318Z
UID:10004249-1911999600-1912010400@bikepilgrim.com
SUMMARY:BICAS Crafternoons
DESCRIPTION:DescriptionDrop in and make some art at BICAS! Every Thursday\, 3-6pm. All are welcome\, and participation is free! Check-in at our front counter\, and they’ll show you to our art area\, where you’ll be introduced to what you can create and have free access to our art supplies\, recycled bicycle art parts\, art tools\, and other art materials. After your creation is complete\, please leave a suggested donation or donate your art to our non-profit organization. We hope to see you there\, and let’s make some art! \nNOTAFLOF event\, no one turned away from lack of funds. All are welcome! \nSee our Facebook discussion (@bicasart) for weekly updates\, as every week our hosts pick out different projects to work on. Our weekly art corners are not workshops; they are casual art drop-ins. Please see our other art workshops at an additional cost. www.bicas.org/art/workshops/https://fb.me/e/1kEo62aFT \nFollow us on Insta @bicasart for more! \nhttps://www.instagram.com/bicasart/ \n\n\n\nmore details»  copy to my calendar»
URL:https://bikepilgrim.com/event/art-corner-at-bicas-2/2030-08-03/
LOCATION:BICAS – Bicycle Inter-Community Art and Salvage\, 2001 N 7th Ave\, Tucson\, AZ\, 85705
CATEGORIES:Art,BICAS,Free
ORGANIZER;CN="BICAS":MAILTO:bicas@bicas.org
END:VEVENT
BEGIN:VEVENT
DTSTART;TZID=America/Phoenix:20300810T150000
DTEND;TZID=America/Phoenix:20300810T180000
DTSTAMP:20260424T074622
CREATED:20251008T005953Z
LAST-MODIFIED:20251008T010318Z
UID:10004250-1912604400-1912615200@bikepilgrim.com
SUMMARY:BICAS Crafternoons
DESCRIPTION:DescriptionDrop in and make some art at BICAS! Every Thursday\, 3-6pm. All are welcome\, and participation is free! Check-in at our front counter\, and they’ll show you to our art area\, where you’ll be introduced to what you can create and have free access to our art supplies\, recycled bicycle art parts\, art tools\, and other art materials. After your creation is complete\, please leave a suggested donation or donate your art to our non-profit organization. We hope to see you there\, and let’s make some art! \nNOTAFLOF event\, no one turned away from lack of funds. All are welcome! \nSee our Facebook discussion (@bicasart) for weekly updates\, as every week our hosts pick out different projects to work on. Our weekly art corners are not workshops; they are casual art drop-ins. Please see our other art workshops at an additional cost. www.bicas.org/art/workshops/https://fb.me/e/1kEo62aFT \nFollow us on Insta @bicasart for more! \nhttps://www.instagram.com/bicasart/ \n\n\n\nmore details»  copy to my calendar»
URL:https://bikepilgrim.com/event/art-corner-at-bicas-2/2030-08-10/
LOCATION:BICAS – Bicycle Inter-Community Art and Salvage\, 2001 N 7th Ave\, Tucson\, AZ\, 85705
CATEGORIES:Art,BICAS,Free
ORGANIZER;CN="BICAS":MAILTO:bicas@bicas.org
END:VEVENT
BEGIN:VEVENT
DTSTART;TZID=America/Phoenix:20300817T150000
DTEND;TZID=America/Phoenix:20300817T180000
DTSTAMP:20260424T074622
CREATED:20251008T005953Z
LAST-MODIFIED:20251008T010318Z
UID:10004251-1913209200-1913220000@bikepilgrim.com
SUMMARY:BICAS Crafternoons
DESCRIPTION:DescriptionDrop in and make some art at BICAS! Every Thursday\, 3-6pm. All are welcome\, and participation is free! Check-in at our front counter\, and they’ll show you to our art area\, where you’ll be introduced to what you can create and have free access to our art supplies\, recycled bicycle art parts\, art tools\, and other art materials. After your creation is complete\, please leave a suggested donation or donate your art to our non-profit organization. We hope to see you there\, and let’s make some art! \nNOTAFLOF event\, no one turned away from lack of funds. All are welcome! \nSee our Facebook discussion (@bicasart) for weekly updates\, as every week our hosts pick out different projects to work on. Our weekly art corners are not workshops; they are casual art drop-ins. Please see our other art workshops at an additional cost. www.bicas.org/art/workshops/https://fb.me/e/1kEo62aFT \nFollow us on Insta @bicasart for more! \nhttps://www.instagram.com/bicasart/ \n\n\n\nmore details»  copy to my calendar»
URL:https://bikepilgrim.com/event/art-corner-at-bicas-2/2030-08-17/
LOCATION:BICAS – Bicycle Inter-Community Art and Salvage\, 2001 N 7th Ave\, Tucson\, AZ\, 85705
CATEGORIES:Art,BICAS,Free
ORGANIZER;CN="BICAS":MAILTO:bicas@bicas.org
END:VEVENT
BEGIN:VEVENT
DTSTART;TZID=America/Phoenix:20300824T150000
DTEND;TZID=America/Phoenix:20300824T180000
DTSTAMP:20260424T074622
CREATED:20251008T005953Z
LAST-MODIFIED:20251008T010318Z
UID:10004252-1913814000-1913824800@bikepilgrim.com
SUMMARY:BICAS Crafternoons
DESCRIPTION:DescriptionDrop in and make some art at BICAS! Every Thursday\, 3-6pm. All are welcome\, and participation is free! Check-in at our front counter\, and they’ll show you to our art area\, where you’ll be introduced to what you can create and have free access to our art supplies\, recycled bicycle art parts\, art tools\, and other art materials. After your creation is complete\, please leave a suggested donation or donate your art to our non-profit organization. We hope to see you there\, and let’s make some art! \nNOTAFLOF event\, no one turned away from lack of funds. All are welcome! \nSee our Facebook discussion (@bicasart) for weekly updates\, as every week our hosts pick out different projects to work on. Our weekly art corners are not workshops; they are casual art drop-ins. Please see our other art workshops at an additional cost. www.bicas.org/art/workshops/https://fb.me/e/1kEo62aFT \nFollow us on Insta @bicasart for more! \nhttps://www.instagram.com/bicasart/ \n\n\n\nmore details»  copy to my calendar»
URL:https://bikepilgrim.com/event/art-corner-at-bicas-2/2030-08-24/
LOCATION:BICAS – Bicycle Inter-Community Art and Salvage\, 2001 N 7th Ave\, Tucson\, AZ\, 85705
CATEGORIES:Art,BICAS,Free
ORGANIZER;CN="BICAS":MAILTO:bicas@bicas.org
END:VEVENT
BEGIN:VEVENT
DTSTART;TZID=America/Phoenix:20300831T150000
DTEND;TZID=America/Phoenix:20300831T180000
DTSTAMP:20260424T074622
CREATED:20251008T005953Z
LAST-MODIFIED:20251008T010318Z
UID:10004253-1914418800-1914429600@bikepilgrim.com
SUMMARY:BICAS Crafternoons
DESCRIPTION:DescriptionDrop in and make some art at BICAS! Every Thursday\, 3-6pm. All are welcome\, and participation is free! Check-in at our front counter\, and they’ll show you to our art area\, where you’ll be introduced to what you can create and have free access to our art supplies\, recycled bicycle art parts\, art tools\, and other art materials. After your creation is complete\, please leave a suggested donation or donate your art to our non-profit organization. We hope to see you there\, and let’s make some art! \nNOTAFLOF event\, no one turned away from lack of funds. All are welcome! \nSee our Facebook discussion (@bicasart) for weekly updates\, as every week our hosts pick out different projects to work on. Our weekly art corners are not workshops; they are casual art drop-ins. Please see our other art workshops at an additional cost. www.bicas.org/art/workshops/https://fb.me/e/1kEo62aFT \nFollow us on Insta @bicasart for more! \nhttps://www.instagram.com/bicasart/ \n\n\n\nmore details»  copy to my calendar»
URL:https://bikepilgrim.com/event/art-corner-at-bicas-2/2030-08-31/
LOCATION:BICAS – Bicycle Inter-Community Art and Salvage\, 2001 N 7th Ave\, Tucson\, AZ\, 85705
CATEGORIES:Art,BICAS,Free
ORGANIZER;CN="BICAS":MAILTO:bicas@bicas.org
END:VEVENT
BEGIN:VEVENT
DTSTART;TZID=America/Phoenix:20300907T150000
DTEND;TZID=America/Phoenix:20300907T180000
DTSTAMP:20260424T074622
CREATED:20251008T005953Z
LAST-MODIFIED:20251008T010318Z
UID:10004254-1915023600-1915034400@bikepilgrim.com
SUMMARY:BICAS Crafternoons
DESCRIPTION:DescriptionDrop in and make some art at BICAS! Every Thursday\, 3-6pm. All are welcome\, and participation is free! Check-in at our front counter\, and they’ll show you to our art area\, where you’ll be introduced to what you can create and have free access to our art supplies\, recycled bicycle art parts\, art tools\, and other art materials. After your creation is complete\, please leave a suggested donation or donate your art to our non-profit organization. We hope to see you there\, and let’s make some art! \nNOTAFLOF event\, no one turned away from lack of funds. All are welcome! \nSee our Facebook discussion (@bicasart) for weekly updates\, as every week our hosts pick out different projects to work on. Our weekly art corners are not workshops; they are casual art drop-ins. Please see our other art workshops at an additional cost. www.bicas.org/art/workshops/https://fb.me/e/1kEo62aFT \nFollow us on Insta @bicasart for more! \nhttps://www.instagram.com/bicasart/ \n\n\n\nmore details»  copy to my calendar»
URL:https://bikepilgrim.com/event/art-corner-at-bicas-2/2030-09-07/
LOCATION:BICAS – Bicycle Inter-Community Art and Salvage\, 2001 N 7th Ave\, Tucson\, AZ\, 85705
CATEGORIES:Art,BICAS,Free
ORGANIZER;CN="BICAS":MAILTO:bicas@bicas.org
END:VEVENT
BEGIN:VEVENT
DTSTART;TZID=America/Phoenix:20300914T150000
DTEND;TZID=America/Phoenix:20300914T180000
DTSTAMP:20260424T074622
CREATED:20251008T005953Z
LAST-MODIFIED:20251008T010318Z
UID:10004255-1915628400-1915639200@bikepilgrim.com
SUMMARY:BICAS Crafternoons
DESCRIPTION:DescriptionDrop in and make some art at BICAS! Every Thursday\, 3-6pm. All are welcome\, and participation is free! Check-in at our front counter\, and they’ll show you to our art area\, where you’ll be introduced to what you can create and have free access to our art supplies\, recycled bicycle art parts\, art tools\, and other art materials. After your creation is complete\, please leave a suggested donation or donate your art to our non-profit organization. We hope to see you there\, and let’s make some art! \nNOTAFLOF event\, no one turned away from lack of funds. All are welcome! \nSee our Facebook discussion (@bicasart) for weekly updates\, as every week our hosts pick out different projects to work on. Our weekly art corners are not workshops; they are casual art drop-ins. Please see our other art workshops at an additional cost. www.bicas.org/art/workshops/https://fb.me/e/1kEo62aFT \nFollow us on Insta @bicasart for more! \nhttps://www.instagram.com/bicasart/ \n\n\n\nmore details»  copy to my calendar»
URL:https://bikepilgrim.com/event/art-corner-at-bicas-2/2030-09-14/
LOCATION:BICAS – Bicycle Inter-Community Art and Salvage\, 2001 N 7th Ave\, Tucson\, AZ\, 85705
CATEGORIES:Art,BICAS,Free
ORGANIZER;CN="BICAS":MAILTO:bicas@bicas.org
END:VEVENT
BEGIN:VEVENT
DTSTART;TZID=America/Phoenix:20300921T150000
DTEND;TZID=America/Phoenix:20300921T180000
DTSTAMP:20260424T074622
CREATED:20251008T005953Z
LAST-MODIFIED:20251008T010318Z
UID:10004256-1916233200-1916244000@bikepilgrim.com
SUMMARY:BICAS Crafternoons
DESCRIPTION:DescriptionDrop in and make some art at BICAS! Every Thursday\, 3-6pm. All are welcome\, and participation is free! Check-in at our front counter\, and they’ll show you to our art area\, where you’ll be introduced to what you can create and have free access to our art supplies\, recycled bicycle art parts\, art tools\, and other art materials. After your creation is complete\, please leave a suggested donation or donate your art to our non-profit organization. We hope to see you there\, and let’s make some art! \nNOTAFLOF event\, no one turned away from lack of funds. All are welcome! \nSee our Facebook discussion (@bicasart) for weekly updates\, as every week our hosts pick out different projects to work on. Our weekly art corners are not workshops; they are casual art drop-ins. Please see our other art workshops at an additional cost. www.bicas.org/art/workshops/https://fb.me/e/1kEo62aFT \nFollow us on Insta @bicasart for more! \nhttps://www.instagram.com/bicasart/ \n\n\n\nmore details»  copy to my calendar»
URL:https://bikepilgrim.com/event/art-corner-at-bicas-2/2030-09-21/
LOCATION:BICAS – Bicycle Inter-Community Art and Salvage\, 2001 N 7th Ave\, Tucson\, AZ\, 85705
CATEGORIES:Art,BICAS,Free
ORGANIZER;CN="BICAS":MAILTO:bicas@bicas.org
END:VEVENT
BEGIN:VEVENT
DTSTART;TZID=America/Phoenix:20300928T150000
DTEND;TZID=America/Phoenix:20300928T180000
DTSTAMP:20260424T074622
CREATED:20251008T005953Z
LAST-MODIFIED:20251008T010318Z
UID:10004257-1916838000-1916848800@bikepilgrim.com
SUMMARY:BICAS Crafternoons
DESCRIPTION:DescriptionDrop in and make some art at BICAS! Every Thursday\, 3-6pm. All are welcome\, and participation is free! Check-in at our front counter\, and they’ll show you to our art area\, where you’ll be introduced to what you can create and have free access to our art supplies\, recycled bicycle art parts\, art tools\, and other art materials. After your creation is complete\, please leave a suggested donation or donate your art to our non-profit organization. We hope to see you there\, and let’s make some art! \nNOTAFLOF event\, no one turned away from lack of funds. All are welcome! \nSee our Facebook discussion (@bicasart) for weekly updates\, as every week our hosts pick out different projects to work on. Our weekly art corners are not workshops; they are casual art drop-ins. Please see our other art workshops at an additional cost. www.bicas.org/art/workshops/https://fb.me/e/1kEo62aFT \nFollow us on Insta @bicasart for more! \nhttps://www.instagram.com/bicasart/ \n\n\n\nmore details»  copy to my calendar»
URL:https://bikepilgrim.com/event/art-corner-at-bicas-2/2030-09-28/
LOCATION:BICAS – Bicycle Inter-Community Art and Salvage\, 2001 N 7th Ave\, Tucson\, AZ\, 85705
CATEGORIES:Art,BICAS,Free
ORGANIZER;CN="BICAS":MAILTO:bicas@bicas.org
END:VEVENT
BEGIN:VEVENT
DTSTART;TZID=America/Phoenix:20301005T150000
DTEND;TZID=America/Phoenix:20301005T180000
DTSTAMP:20260424T074622
CREATED:20251008T005953Z
LAST-MODIFIED:20251008T010318Z
UID:10004258-1917442800-1917453600@bikepilgrim.com
SUMMARY:BICAS Crafternoons
DESCRIPTION:DescriptionDrop in and make some art at BICAS! Every Thursday\, 3-6pm. All are welcome\, and participation is free! Check-in at our front counter\, and they’ll show you to our art area\, where you’ll be introduced to what you can create and have free access to our art supplies\, recycled bicycle art parts\, art tools\, and other art materials. After your creation is complete\, please leave a suggested donation or donate your art to our non-profit organization. We hope to see you there\, and let’s make some art! \nNOTAFLOF event\, no one turned away from lack of funds. All are welcome! \nSee our Facebook discussion (@bicasart) for weekly updates\, as every week our hosts pick out different projects to work on. Our weekly art corners are not workshops; they are casual art drop-ins. Please see our other art workshops at an additional cost. www.bicas.org/art/workshops/https://fb.me/e/1kEo62aFT \nFollow us on Insta @bicasart for more! \nhttps://www.instagram.com/bicasart/ \n\n\n\nmore details»  copy to my calendar»
URL:https://bikepilgrim.com/event/art-corner-at-bicas-2/2030-10-05/
LOCATION:BICAS – Bicycle Inter-Community Art and Salvage\, 2001 N 7th Ave\, Tucson\, AZ\, 85705
CATEGORIES:Art,BICAS,Free
ORGANIZER;CN="BICAS":MAILTO:bicas@bicas.org
END:VEVENT
END:VCALENDAR