BEGIN:VCALENDAR
VERSION:2.0
PRODID:-//BikePilgrim.com - ECPv6.3.3.1//NONSGML v1.0//EN
CALSCALE:GREGORIAN
METHOD:PUBLISH
X-ORIGINAL-URL:https://bikepilgrim.com
X-WR-CALDESC:Events for BikePilgrim.com
REFRESH-INTERVAL;VALUE=DURATION:PT1H
X-Robots-Tag:noindex
X-PUBLISHED-TTL:PT1H
BEGIN:VTIMEZONE
TZID:America/Phoenix
BEGIN:STANDARD
TZOFFSETFROM:-0700
TZOFFSETTO:-0700
TZNAME:MST
DTSTART:20260101T000000
END:STANDARD
END:VTIMEZONE
BEGIN:VEVENT
DTSTART;TZID=America/Phoenix:20260424T080000
DTEND;TZID=America/Phoenix:20260424T170000
DTSTAMP:20260424T162456
CREATED:20240207T051856Z
LAST-MODIFIED:20251007T232545Z
UID:10001936-1777017600-1777050000@bikepilgrim.com
SUMMARY:The Whiskey Off Road
DESCRIPTION:WHISKEY OFF-ROAD\nApril 24-26\, 2026 \nPrescott\, AZ \nREGISTER SCHEDULE RESULTS\n\n\nStarting on Prescott’s historical (and lively) Whiskey Row and climbing into the beautifully distracting views of Prescott National Forest\, riders will connect some of the area’s most exhilarating (and challenging) pieces of singletrack\, double track\, gravel roads\, and the occasional paved segment. \nDuring your visit to Prescott\, enjoy three fun-filled days of event festivities and being submerged in the mountain bike industry. Mingle with the most bike-minded people you’ll ever encounter while appreciating the area’s wild wild west heritage and feeling welcomed by its modern-day appreciation for the outdoor enthusiast. \nWith a finisher’s award in the form of a well-earned commemorative pint glass emblazoned with the distance you’ve finished and the comfort of the former Arizona Territorial capitol’s shaded lawn waiting at the finish line for all Off-Road participants…this is a finish line that will make every mile worth the effort. \nThe ‘Whiskey’ has a 94% finish rate. However\, it’s no walk in the park \n 
URL:https://bikepilgrim.com/event/the-whiskey-off-road/
LOCATION:Prescott\, Prescott\, AZ\, 86303
CATEGORIES:Arizona,Camping,Community Event,Drinking,drinking and smoking,Entry Fee,Mountain Bike,MTB,Prescott,Race
ORGANIZER;CN="Epic Rides":MAILTO:registration@epicrides.com or info@epicrides.com
END:VEVENT
BEGIN:VEVENT
DTSTART;TZID=America/Phoenix:20260526T080000
DTEND;TZID=America/Phoenix:20260526T170000
DTSTAMP:20260424T162456
CREATED:20240210T064102Z
LAST-MODIFIED:20251008T170948Z
UID:10002753-1779782400-1779814800@bikepilgrim.com
SUMMARY:Royal Gorge Six and Twelve
DESCRIPTION:May 18th 2024\n\n\n\n\n\nThe Royal Gorge Six & Twelve is arguably the most beautiful course on the Zia Rides calendar with views\, views and more views. On one side\, you look out over the fruited Great Plains of America. On another side\, you have fantastic views of the Royal Gorge and all the way down to the Arkansas River below. And don’t forget the snow capped 14ers in every other direction from the venue. To say the spot is pretty is an understatement. \nRiders can choose from either a Mountain Bike \noption and compete as a solo\, duo\, or team. The course is an intermediate 10 mile. loop of fun and fast singletrack that alternates between old school rocky singletrack and flowly machine built dips and curves. It is a true mountain bikers course with plenty of variation and views to enjoy. Did we mention that Cañon City has a professional trail builder who adds new trails and keeps the current ones in tip top shape? All of this is to say that you and your crew are going to get in some killer riding. \nTo top things off\, Cañon City is a little hidden gem on the front range. In addition to having a lovely downtown\, there’s tons of fun stuff to do and other great riding in the area with spots like Royal Gorge Bridge just minutes away. Bring your crew and camp for the whole weekend at the Royal Gorge East Ridge Campground\, or just come for the race and take in beautiful views of snow-capped peaks. Whatever you choose\, we know that it’s going to be a great weekend!
URL:https://bikepilgrim.com/event/royal-gorge-six-and-twelve/
LOCATION:Royal Gorge East Ridge Campground\, 3315 Co Rd F30\, Cañon City\, CO\, 81212
CATEGORIES:Camping,Colorado,Entry Fee,Mountain Bike,MTB,Race
ORGANIZER;CN="Zia Rides":MAILTO:ELCAPITAN@ZIARIDES.COM
END:VEVENT
BEGIN:VEVENT
DTSTART;VALUE=DATE:20261003
DTEND;VALUE=DATE:20261004
DTSTAMP:20260424T162456
CREATED:20240207T163601Z
LAST-MODIFIED:20251007T232621Z
UID:10001939-1790985600-1791071999@bikepilgrim.com
SUMMARY:TOUR OF THE WHITE MOUNTAINS
DESCRIPTION:A video of past funtivities by The Damion Alexander Team \nhttps://www.facebook.com/damion.alexander.9/videos/905554694182424 \n \nPRE-REGISTER SCHEDULE RESULTS\n\n\n\nEVENT WEEKEND GUIDE\n\n  \nThe Tour leverages the Pinetop Lakes activity and equestrian center to provide a complete family experience. Attendees enjoy the onsite amphitheater for event activities and live music\, nearby accommodations\, campground games\, a robust communal campfire and more! \nAt 7\,000 ft. a limited field of riders will discover the challenges and gratification from riding awesome single track among a pine forest backdrop while witnessing the endless beauty (and perfect distraction) of the fall season in the Apache-Sitgreaves National Forests. \nAll finishers receive a custom award emblazoned with their distance and are welcomed to the post-ride after-party with live music\, BBQ and cold Pinetop Brewing Co. beverages. \nThe communities of Pinetop-Lakeside are sure to please any visitor with their quintessential small mountain town charm and top notch restaurants. \nFor the benefit of: Tour of the White Mountains benefits TRACKS.
URL:https://bikepilgrim.com/event/tour-of-the-white-mountains/
LOCATION:Pinetop Lakes Activity Center & Stables\, 5475 Buck Springs Road\, Pinetop\, AZ\, 85935
CATEGORIES:Camping,Drinking,drinking and smoking,Entry Fee,Mountain Bike,MTB,Party On Wheels,Race
ORGANIZER;CN="Epic Rides":MAILTO:registration@epicrides.com or info@epicrides.com
END:VEVENT
END:VCALENDAR