BEGIN:VCALENDAR
VERSION:2.0
PRODID:-//BikePilgrim.com - ECPv6.3.3.1//NONSGML v1.0//EN
CALSCALE:GREGORIAN
METHOD:PUBLISH
X-WR-CALNAME:BikePilgrim.com
X-ORIGINAL-URL:https://bikepilgrim.com
X-WR-CALDESC:Events for BikePilgrim.com
REFRESH-INTERVAL;VALUE=DURATION:PT1H
X-Robots-Tag:noindex
X-PUBLISHED-TTL:PT1H
BEGIN:VTIMEZONE
TZID:America/Phoenix
BEGIN:STANDARD
TZOFFSETFROM:-0700
TZOFFSETTO:-0700
TZNAME:MST
DTSTART:20300101T000000
END:STANDARD
END:VTIMEZONE
BEGIN:VEVENT
DTSTART;TZID=America/Phoenix:20300410T070000
DTEND;TZID=America/Phoenix:20300410T100000
DTSTAMP:20260425T061527
CREATED:20251008T192943Z
LAST-MODIFIED:20251008T192944Z
UID:10005639-1902034800-1902045600@bikepilgrim.com
SUMMARY:Adaptive Cycling Weekly Tucson Ride
DESCRIPTION:Southern Arizona Adaptive Sports has a large and diverse collection of cycles for use by persons with physical disabilities\, including recumbent trikes\, hand-cycles and tandems. At our Adaptive Cycling Center\, we offer free community programs for athletes and participants of all ages and skill levels.  We are continually growing and welcome new participants and supporters.\n\n\n\n  \nCurrently on Wednesdays and Saturday. Check the website for additional opportunities and date changes.
URL:https://bikepilgrim.com/event/adaptive-cycling-weekly-tucson-ride-2/2030-04-10/
LOCATION:Sam Lena Park\, 3400 S. Country Club\, Tucson\, AZ\, 85713
CATEGORIES:Adaptive Cycling,Arizona,The Loop,Tucson,Volunteer
ORGANIZER;CN="Southern Arizona Adaptive Sports":MAILTO:Info@soazadaptivesports.org
END:VEVENT
BEGIN:VEVENT
DTSTART;TZID=America/Phoenix:20300417T070000
DTEND;TZID=America/Phoenix:20300417T100000
DTSTAMP:20260425T061527
CREATED:20251008T192943Z
LAST-MODIFIED:20251008T192944Z
UID:10005640-1902639600-1902650400@bikepilgrim.com
SUMMARY:Adaptive Cycling Weekly Tucson Ride
DESCRIPTION:Southern Arizona Adaptive Sports has a large and diverse collection of cycles for use by persons with physical disabilities\, including recumbent trikes\, hand-cycles and tandems. At our Adaptive Cycling Center\, we offer free community programs for athletes and participants of all ages and skill levels.  We are continually growing and welcome new participants and supporters.\n\n\n\n  \nCurrently on Wednesdays and Saturday. Check the website for additional opportunities and date changes.
URL:https://bikepilgrim.com/event/adaptive-cycling-weekly-tucson-ride-2/2030-04-17/
LOCATION:Sam Lena Park\, 3400 S. Country Club\, Tucson\, AZ\, 85713
CATEGORIES:Adaptive Cycling,Arizona,The Loop,Tucson,Volunteer
ORGANIZER;CN="Southern Arizona Adaptive Sports":MAILTO:Info@soazadaptivesports.org
END:VEVENT
BEGIN:VEVENT
DTSTART;TZID=America/Phoenix:20300424T070000
DTEND;TZID=America/Phoenix:20300424T100000
DTSTAMP:20260425T061527
CREATED:20251008T192943Z
LAST-MODIFIED:20251008T192944Z
UID:10005641-1903244400-1903255200@bikepilgrim.com
SUMMARY:Adaptive Cycling Weekly Tucson Ride
DESCRIPTION:Southern Arizona Adaptive Sports has a large and diverse collection of cycles for use by persons with physical disabilities\, including recumbent trikes\, hand-cycles and tandems. At our Adaptive Cycling Center\, we offer free community programs for athletes and participants of all ages and skill levels.  We are continually growing and welcome new participants and supporters.\n\n\n\n  \nCurrently on Wednesdays and Saturday. Check the website for additional opportunities and date changes.
URL:https://bikepilgrim.com/event/adaptive-cycling-weekly-tucson-ride-2/2030-04-24/
LOCATION:Sam Lena Park\, 3400 S. Country Club\, Tucson\, AZ\, 85713
CATEGORIES:Adaptive Cycling,Arizona,The Loop,Tucson,Volunteer
ORGANIZER;CN="Southern Arizona Adaptive Sports":MAILTO:Info@soazadaptivesports.org
END:VEVENT
BEGIN:VEVENT
DTSTART;TZID=America/Phoenix:20300501T070000
DTEND;TZID=America/Phoenix:20300501T100000
DTSTAMP:20260425T061527
CREATED:20251008T192943Z
LAST-MODIFIED:20251008T192944Z
UID:10005642-1903849200-1903860000@bikepilgrim.com
SUMMARY:Adaptive Cycling Weekly Tucson Ride
DESCRIPTION:Southern Arizona Adaptive Sports has a large and diverse collection of cycles for use by persons with physical disabilities\, including recumbent trikes\, hand-cycles and tandems. At our Adaptive Cycling Center\, we offer free community programs for athletes and participants of all ages and skill levels.  We are continually growing and welcome new participants and supporters.\n\n\n\n  \nCurrently on Wednesdays and Saturday. Check the website for additional opportunities and date changes.
URL:https://bikepilgrim.com/event/adaptive-cycling-weekly-tucson-ride-2/2030-05-01/
LOCATION:Sam Lena Park\, 3400 S. Country Club\, Tucson\, AZ\, 85713
CATEGORIES:Adaptive Cycling,Arizona,The Loop,Tucson,Volunteer
ORGANIZER;CN="Southern Arizona Adaptive Sports":MAILTO:Info@soazadaptivesports.org
END:VEVENT
BEGIN:VEVENT
DTSTART;TZID=America/Phoenix:20300508T070000
DTEND;TZID=America/Phoenix:20300508T100000
DTSTAMP:20260425T061527
CREATED:20251008T192943Z
LAST-MODIFIED:20251008T192944Z
UID:10005643-1904454000-1904464800@bikepilgrim.com
SUMMARY:Adaptive Cycling Weekly Tucson Ride
DESCRIPTION:Southern Arizona Adaptive Sports has a large and diverse collection of cycles for use by persons with physical disabilities\, including recumbent trikes\, hand-cycles and tandems. At our Adaptive Cycling Center\, we offer free community programs for athletes and participants of all ages and skill levels.  We are continually growing and welcome new participants and supporters.\n\n\n\n  \nCurrently on Wednesdays and Saturday. Check the website for additional opportunities and date changes.
URL:https://bikepilgrim.com/event/adaptive-cycling-weekly-tucson-ride-2/2030-05-08/
LOCATION:Sam Lena Park\, 3400 S. Country Club\, Tucson\, AZ\, 85713
CATEGORIES:Adaptive Cycling,Arizona,The Loop,Tucson,Volunteer
ORGANIZER;CN="Southern Arizona Adaptive Sports":MAILTO:Info@soazadaptivesports.org
END:VEVENT
BEGIN:VEVENT
DTSTART;TZID=America/Phoenix:20300515T070000
DTEND;TZID=America/Phoenix:20300515T100000
DTSTAMP:20260425T061527
CREATED:20251008T192943Z
LAST-MODIFIED:20251008T192944Z
UID:10005644-1905058800-1905069600@bikepilgrim.com
SUMMARY:Adaptive Cycling Weekly Tucson Ride
DESCRIPTION:Southern Arizona Adaptive Sports has a large and diverse collection of cycles for use by persons with physical disabilities\, including recumbent trikes\, hand-cycles and tandems. At our Adaptive Cycling Center\, we offer free community programs for athletes and participants of all ages and skill levels.  We are continually growing and welcome new participants and supporters.\n\n\n\n  \nCurrently on Wednesdays and Saturday. Check the website for additional opportunities and date changes.
URL:https://bikepilgrim.com/event/adaptive-cycling-weekly-tucson-ride-2/2030-05-15/
LOCATION:Sam Lena Park\, 3400 S. Country Club\, Tucson\, AZ\, 85713
CATEGORIES:Adaptive Cycling,Arizona,The Loop,Tucson,Volunteer
ORGANIZER;CN="Southern Arizona Adaptive Sports":MAILTO:Info@soazadaptivesports.org
END:VEVENT
BEGIN:VEVENT
DTSTART;TZID=America/Phoenix:20300522T070000
DTEND;TZID=America/Phoenix:20300522T100000
DTSTAMP:20260425T061527
CREATED:20251008T192943Z
LAST-MODIFIED:20251008T192944Z
UID:10005645-1905663600-1905674400@bikepilgrim.com
SUMMARY:Adaptive Cycling Weekly Tucson Ride
DESCRIPTION:Southern Arizona Adaptive Sports has a large and diverse collection of cycles for use by persons with physical disabilities\, including recumbent trikes\, hand-cycles and tandems. At our Adaptive Cycling Center\, we offer free community programs for athletes and participants of all ages and skill levels.  We are continually growing and welcome new participants and supporters.\n\n\n\n  \nCurrently on Wednesdays and Saturday. Check the website for additional opportunities and date changes.
URL:https://bikepilgrim.com/event/adaptive-cycling-weekly-tucson-ride-2/2030-05-22/
LOCATION:Sam Lena Park\, 3400 S. Country Club\, Tucson\, AZ\, 85713
CATEGORIES:Adaptive Cycling,Arizona,The Loop,Tucson,Volunteer
ORGANIZER;CN="Southern Arizona Adaptive Sports":MAILTO:Info@soazadaptivesports.org
END:VEVENT
BEGIN:VEVENT
DTSTART;TZID=America/Phoenix:20300529T070000
DTEND;TZID=America/Phoenix:20300529T100000
DTSTAMP:20260425T061527
CREATED:20251008T192943Z
LAST-MODIFIED:20251008T192944Z
UID:10005646-1906268400-1906279200@bikepilgrim.com
SUMMARY:Adaptive Cycling Weekly Tucson Ride
DESCRIPTION:Southern Arizona Adaptive Sports has a large and diverse collection of cycles for use by persons with physical disabilities\, including recumbent trikes\, hand-cycles and tandems. At our Adaptive Cycling Center\, we offer free community programs for athletes and participants of all ages and skill levels.  We are continually growing and welcome new participants and supporters.\n\n\n\n  \nCurrently on Wednesdays and Saturday. Check the website for additional opportunities and date changes.
URL:https://bikepilgrim.com/event/adaptive-cycling-weekly-tucson-ride-2/2030-05-29/
LOCATION:Sam Lena Park\, 3400 S. Country Club\, Tucson\, AZ\, 85713
CATEGORIES:Adaptive Cycling,Arizona,The Loop,Tucson,Volunteer
ORGANIZER;CN="Southern Arizona Adaptive Sports":MAILTO:Info@soazadaptivesports.org
END:VEVENT
BEGIN:VEVENT
DTSTART;TZID=America/Phoenix:20300605T070000
DTEND;TZID=America/Phoenix:20300605T100000
DTSTAMP:20260425T061527
CREATED:20251008T192943Z
LAST-MODIFIED:20251008T192944Z
UID:10005647-1906873200-1906884000@bikepilgrim.com
SUMMARY:Adaptive Cycling Weekly Tucson Ride
DESCRIPTION:Southern Arizona Adaptive Sports has a large and diverse collection of cycles for use by persons with physical disabilities\, including recumbent trikes\, hand-cycles and tandems. At our Adaptive Cycling Center\, we offer free community programs for athletes and participants of all ages and skill levels.  We are continually growing and welcome new participants and supporters.\n\n\n\n  \nCurrently on Wednesdays and Saturday. Check the website for additional opportunities and date changes.
URL:https://bikepilgrim.com/event/adaptive-cycling-weekly-tucson-ride-2/2030-06-05/
LOCATION:Sam Lena Park\, 3400 S. Country Club\, Tucson\, AZ\, 85713
CATEGORIES:Adaptive Cycling,Arizona,The Loop,Tucson,Volunteer
ORGANIZER;CN="Southern Arizona Adaptive Sports":MAILTO:Info@soazadaptivesports.org
END:VEVENT
BEGIN:VEVENT
DTSTART;TZID=America/Phoenix:20300612T070000
DTEND;TZID=America/Phoenix:20300612T100000
DTSTAMP:20260425T061527
CREATED:20251008T192943Z
LAST-MODIFIED:20251008T192944Z
UID:10005648-1907478000-1907488800@bikepilgrim.com
SUMMARY:Adaptive Cycling Weekly Tucson Ride
DESCRIPTION:Southern Arizona Adaptive Sports has a large and diverse collection of cycles for use by persons with physical disabilities\, including recumbent trikes\, hand-cycles and tandems. At our Adaptive Cycling Center\, we offer free community programs for athletes and participants of all ages and skill levels.  We are continually growing and welcome new participants and supporters.\n\n\n\n  \nCurrently on Wednesdays and Saturday. Check the website for additional opportunities and date changes.
URL:https://bikepilgrim.com/event/adaptive-cycling-weekly-tucson-ride-2/2030-06-12/
LOCATION:Sam Lena Park\, 3400 S. Country Club\, Tucson\, AZ\, 85713
CATEGORIES:Adaptive Cycling,Arizona,The Loop,Tucson,Volunteer
ORGANIZER;CN="Southern Arizona Adaptive Sports":MAILTO:Info@soazadaptivesports.org
END:VEVENT
BEGIN:VEVENT
DTSTART;TZID=America/Phoenix:20300619T070000
DTEND;TZID=America/Phoenix:20300619T100000
DTSTAMP:20260425T061527
CREATED:20251008T192943Z
LAST-MODIFIED:20251008T192944Z
UID:10005649-1908082800-1908093600@bikepilgrim.com
SUMMARY:Adaptive Cycling Weekly Tucson Ride
DESCRIPTION:Southern Arizona Adaptive Sports has a large and diverse collection of cycles for use by persons with physical disabilities\, including recumbent trikes\, hand-cycles and tandems. At our Adaptive Cycling Center\, we offer free community programs for athletes and participants of all ages and skill levels.  We are continually growing and welcome new participants and supporters.\n\n\n\n  \nCurrently on Wednesdays and Saturday. Check the website for additional opportunities and date changes.
URL:https://bikepilgrim.com/event/adaptive-cycling-weekly-tucson-ride-2/2030-06-19/
LOCATION:Sam Lena Park\, 3400 S. Country Club\, Tucson\, AZ\, 85713
CATEGORIES:Adaptive Cycling,Arizona,The Loop,Tucson,Volunteer
ORGANIZER;CN="Southern Arizona Adaptive Sports":MAILTO:Info@soazadaptivesports.org
END:VEVENT
BEGIN:VEVENT
DTSTART;TZID=America/Phoenix:20300626T070000
DTEND;TZID=America/Phoenix:20300626T100000
DTSTAMP:20260425T061527
CREATED:20251008T192943Z
LAST-MODIFIED:20251008T192944Z
UID:10005650-1908687600-1908698400@bikepilgrim.com
SUMMARY:Adaptive Cycling Weekly Tucson Ride
DESCRIPTION:Southern Arizona Adaptive Sports has a large and diverse collection of cycles for use by persons with physical disabilities\, including recumbent trikes\, hand-cycles and tandems. At our Adaptive Cycling Center\, we offer free community programs for athletes and participants of all ages and skill levels.  We are continually growing and welcome new participants and supporters.\n\n\n\n  \nCurrently on Wednesdays and Saturday. Check the website for additional opportunities and date changes.
URL:https://bikepilgrim.com/event/adaptive-cycling-weekly-tucson-ride-2/2030-06-26/
LOCATION:Sam Lena Park\, 3400 S. Country Club\, Tucson\, AZ\, 85713
CATEGORIES:Adaptive Cycling,Arizona,The Loop,Tucson,Volunteer
ORGANIZER;CN="Southern Arizona Adaptive Sports":MAILTO:Info@soazadaptivesports.org
END:VEVENT
BEGIN:VEVENT
DTSTART;TZID=America/Phoenix:20300703T070000
DTEND;TZID=America/Phoenix:20300703T100000
DTSTAMP:20260425T061527
CREATED:20251008T192943Z
LAST-MODIFIED:20251008T192944Z
UID:10005651-1909292400-1909303200@bikepilgrim.com
SUMMARY:Adaptive Cycling Weekly Tucson Ride
DESCRIPTION:Southern Arizona Adaptive Sports has a large and diverse collection of cycles for use by persons with physical disabilities\, including recumbent trikes\, hand-cycles and tandems. At our Adaptive Cycling Center\, we offer free community programs for athletes and participants of all ages and skill levels.  We are continually growing and welcome new participants and supporters.\n\n\n\n  \nCurrently on Wednesdays and Saturday. Check the website for additional opportunities and date changes.
URL:https://bikepilgrim.com/event/adaptive-cycling-weekly-tucson-ride-2/2030-07-03/
LOCATION:Sam Lena Park\, 3400 S. Country Club\, Tucson\, AZ\, 85713
CATEGORIES:Adaptive Cycling,Arizona,The Loop,Tucson,Volunteer
ORGANIZER;CN="Southern Arizona Adaptive Sports":MAILTO:Info@soazadaptivesports.org
END:VEVENT
BEGIN:VEVENT
DTSTART;TZID=America/Phoenix:20300710T070000
DTEND;TZID=America/Phoenix:20300710T100000
DTSTAMP:20260425T061527
CREATED:20251008T192943Z
LAST-MODIFIED:20251008T192944Z
UID:10005652-1909897200-1909908000@bikepilgrim.com
SUMMARY:Adaptive Cycling Weekly Tucson Ride
DESCRIPTION:Southern Arizona Adaptive Sports has a large and diverse collection of cycles for use by persons with physical disabilities\, including recumbent trikes\, hand-cycles and tandems. At our Adaptive Cycling Center\, we offer free community programs for athletes and participants of all ages and skill levels.  We are continually growing and welcome new participants and supporters.\n\n\n\n  \nCurrently on Wednesdays and Saturday. Check the website for additional opportunities and date changes.
URL:https://bikepilgrim.com/event/adaptive-cycling-weekly-tucson-ride-2/2030-07-10/
LOCATION:Sam Lena Park\, 3400 S. Country Club\, Tucson\, AZ\, 85713
CATEGORIES:Adaptive Cycling,Arizona,The Loop,Tucson,Volunteer
ORGANIZER;CN="Southern Arizona Adaptive Sports":MAILTO:Info@soazadaptivesports.org
END:VEVENT
BEGIN:VEVENT
DTSTART;TZID=America/Phoenix:20300717T070000
DTEND;TZID=America/Phoenix:20300717T100000
DTSTAMP:20260425T061527
CREATED:20251008T192943Z
LAST-MODIFIED:20251008T192944Z
UID:10005653-1910502000-1910512800@bikepilgrim.com
SUMMARY:Adaptive Cycling Weekly Tucson Ride
DESCRIPTION:Southern Arizona Adaptive Sports has a large and diverse collection of cycles for use by persons with physical disabilities\, including recumbent trikes\, hand-cycles and tandems. At our Adaptive Cycling Center\, we offer free community programs for athletes and participants of all ages and skill levels.  We are continually growing and welcome new participants and supporters.\n\n\n\n  \nCurrently on Wednesdays and Saturday. Check the website for additional opportunities and date changes.
URL:https://bikepilgrim.com/event/adaptive-cycling-weekly-tucson-ride-2/2030-07-17/
LOCATION:Sam Lena Park\, 3400 S. Country Club\, Tucson\, AZ\, 85713
CATEGORIES:Adaptive Cycling,Arizona,The Loop,Tucson,Volunteer
ORGANIZER;CN="Southern Arizona Adaptive Sports":MAILTO:Info@soazadaptivesports.org
END:VEVENT
BEGIN:VEVENT
DTSTART;TZID=America/Phoenix:20300724T070000
DTEND;TZID=America/Phoenix:20300724T100000
DTSTAMP:20260425T061527
CREATED:20251008T192943Z
LAST-MODIFIED:20251008T192944Z
UID:10005654-1911106800-1911117600@bikepilgrim.com
SUMMARY:Adaptive Cycling Weekly Tucson Ride
DESCRIPTION:Southern Arizona Adaptive Sports has a large and diverse collection of cycles for use by persons with physical disabilities\, including recumbent trikes\, hand-cycles and tandems. At our Adaptive Cycling Center\, we offer free community programs for athletes and participants of all ages and skill levels.  We are continually growing and welcome new participants and supporters.\n\n\n\n  \nCurrently on Wednesdays and Saturday. Check the website for additional opportunities and date changes.
URL:https://bikepilgrim.com/event/adaptive-cycling-weekly-tucson-ride-2/2030-07-24/
LOCATION:Sam Lena Park\, 3400 S. Country Club\, Tucson\, AZ\, 85713
CATEGORIES:Adaptive Cycling,Arizona,The Loop,Tucson,Volunteer
ORGANIZER;CN="Southern Arizona Adaptive Sports":MAILTO:Info@soazadaptivesports.org
END:VEVENT
BEGIN:VEVENT
DTSTART;TZID=America/Phoenix:20300731T070000
DTEND;TZID=America/Phoenix:20300731T100000
DTSTAMP:20260425T061527
CREATED:20251008T192943Z
LAST-MODIFIED:20251008T192944Z
UID:10005655-1911711600-1911722400@bikepilgrim.com
SUMMARY:Adaptive Cycling Weekly Tucson Ride
DESCRIPTION:Southern Arizona Adaptive Sports has a large and diverse collection of cycles for use by persons with physical disabilities\, including recumbent trikes\, hand-cycles and tandems. At our Adaptive Cycling Center\, we offer free community programs for athletes and participants of all ages and skill levels.  We are continually growing and welcome new participants and supporters.\n\n\n\n  \nCurrently on Wednesdays and Saturday. Check the website for additional opportunities and date changes.
URL:https://bikepilgrim.com/event/adaptive-cycling-weekly-tucson-ride-2/2030-07-31/
LOCATION:Sam Lena Park\, 3400 S. Country Club\, Tucson\, AZ\, 85713
CATEGORIES:Adaptive Cycling,Arizona,The Loop,Tucson,Volunteer
ORGANIZER;CN="Southern Arizona Adaptive Sports":MAILTO:Info@soazadaptivesports.org
END:VEVENT
BEGIN:VEVENT
DTSTART;TZID=America/Phoenix:20300807T070000
DTEND;TZID=America/Phoenix:20300807T100000
DTSTAMP:20260425T061528
CREATED:20251008T192943Z
LAST-MODIFIED:20251008T192944Z
UID:10005656-1912316400-1912327200@bikepilgrim.com
SUMMARY:Adaptive Cycling Weekly Tucson Ride
DESCRIPTION:Southern Arizona Adaptive Sports has a large and diverse collection of cycles for use by persons with physical disabilities\, including recumbent trikes\, hand-cycles and tandems. At our Adaptive Cycling Center\, we offer free community programs for athletes and participants of all ages and skill levels.  We are continually growing and welcome new participants and supporters.\n\n\n\n  \nCurrently on Wednesdays and Saturday. Check the website for additional opportunities and date changes.
URL:https://bikepilgrim.com/event/adaptive-cycling-weekly-tucson-ride-2/2030-08-07/
LOCATION:Sam Lena Park\, 3400 S. Country Club\, Tucson\, AZ\, 85713
CATEGORIES:Adaptive Cycling,Arizona,The Loop,Tucson,Volunteer
ORGANIZER;CN="Southern Arizona Adaptive Sports":MAILTO:Info@soazadaptivesports.org
END:VEVENT
BEGIN:VEVENT
DTSTART;TZID=America/Phoenix:20300814T070000
DTEND;TZID=America/Phoenix:20300814T100000
DTSTAMP:20260425T061528
CREATED:20251008T192943Z
LAST-MODIFIED:20251008T192944Z
UID:10005657-1912921200-1912932000@bikepilgrim.com
SUMMARY:Adaptive Cycling Weekly Tucson Ride
DESCRIPTION:Southern Arizona Adaptive Sports has a large and diverse collection of cycles for use by persons with physical disabilities\, including recumbent trikes\, hand-cycles and tandems. At our Adaptive Cycling Center\, we offer free community programs for athletes and participants of all ages and skill levels.  We are continually growing and welcome new participants and supporters.\n\n\n\n  \nCurrently on Wednesdays and Saturday. Check the website for additional opportunities and date changes.
URL:https://bikepilgrim.com/event/adaptive-cycling-weekly-tucson-ride-2/2030-08-14/
LOCATION:Sam Lena Park\, 3400 S. Country Club\, Tucson\, AZ\, 85713
CATEGORIES:Adaptive Cycling,Arizona,The Loop,Tucson,Volunteer
ORGANIZER;CN="Southern Arizona Adaptive Sports":MAILTO:Info@soazadaptivesports.org
END:VEVENT
BEGIN:VEVENT
DTSTART;TZID=America/Phoenix:20300821T070000
DTEND;TZID=America/Phoenix:20300821T100000
DTSTAMP:20260425T061528
CREATED:20251008T192943Z
LAST-MODIFIED:20251008T192944Z
UID:10005658-1913526000-1913536800@bikepilgrim.com
SUMMARY:Adaptive Cycling Weekly Tucson Ride
DESCRIPTION:Southern Arizona Adaptive Sports has a large and diverse collection of cycles for use by persons with physical disabilities\, including recumbent trikes\, hand-cycles and tandems. At our Adaptive Cycling Center\, we offer free community programs for athletes and participants of all ages and skill levels.  We are continually growing and welcome new participants and supporters.\n\n\n\n  \nCurrently on Wednesdays and Saturday. Check the website for additional opportunities and date changes.
URL:https://bikepilgrim.com/event/adaptive-cycling-weekly-tucson-ride-2/2030-08-21/
LOCATION:Sam Lena Park\, 3400 S. Country Club\, Tucson\, AZ\, 85713
CATEGORIES:Adaptive Cycling,Arizona,The Loop,Tucson,Volunteer
ORGANIZER;CN="Southern Arizona Adaptive Sports":MAILTO:Info@soazadaptivesports.org
END:VEVENT
BEGIN:VEVENT
DTSTART;TZID=America/Phoenix:20300828T070000
DTEND;TZID=America/Phoenix:20300828T100000
DTSTAMP:20260425T061528
CREATED:20251008T192943Z
LAST-MODIFIED:20251008T192944Z
UID:10005659-1914130800-1914141600@bikepilgrim.com
SUMMARY:Adaptive Cycling Weekly Tucson Ride
DESCRIPTION:Southern Arizona Adaptive Sports has a large and diverse collection of cycles for use by persons with physical disabilities\, including recumbent trikes\, hand-cycles and tandems. At our Adaptive Cycling Center\, we offer free community programs for athletes and participants of all ages and skill levels.  We are continually growing and welcome new participants and supporters.\n\n\n\n  \nCurrently on Wednesdays and Saturday. Check the website for additional opportunities and date changes.
URL:https://bikepilgrim.com/event/adaptive-cycling-weekly-tucson-ride-2/2030-08-28/
LOCATION:Sam Lena Park\, 3400 S. Country Club\, Tucson\, AZ\, 85713
CATEGORIES:Adaptive Cycling,Arizona,The Loop,Tucson,Volunteer
ORGANIZER;CN="Southern Arizona Adaptive Sports":MAILTO:Info@soazadaptivesports.org
END:VEVENT
BEGIN:VEVENT
DTSTART;TZID=America/Phoenix:20300904T070000
DTEND;TZID=America/Phoenix:20300904T100000
DTSTAMP:20260425T061528
CREATED:20251008T192943Z
LAST-MODIFIED:20251008T192944Z
UID:10005660-1914735600-1914746400@bikepilgrim.com
SUMMARY:Adaptive Cycling Weekly Tucson Ride
DESCRIPTION:Southern Arizona Adaptive Sports has a large and diverse collection of cycles for use by persons with physical disabilities\, including recumbent trikes\, hand-cycles and tandems. At our Adaptive Cycling Center\, we offer free community programs for athletes and participants of all ages and skill levels.  We are continually growing and welcome new participants and supporters.\n\n\n\n  \nCurrently on Wednesdays and Saturday. Check the website for additional opportunities and date changes.
URL:https://bikepilgrim.com/event/adaptive-cycling-weekly-tucson-ride-2/2030-09-04/
LOCATION:Sam Lena Park\, 3400 S. Country Club\, Tucson\, AZ\, 85713
CATEGORIES:Adaptive Cycling,Arizona,The Loop,Tucson,Volunteer
ORGANIZER;CN="Southern Arizona Adaptive Sports":MAILTO:Info@soazadaptivesports.org
END:VEVENT
BEGIN:VEVENT
DTSTART;TZID=America/Phoenix:20300911T070000
DTEND;TZID=America/Phoenix:20300911T100000
DTSTAMP:20260425T061528
CREATED:20251008T192943Z
LAST-MODIFIED:20251008T192944Z
UID:10005661-1915340400-1915351200@bikepilgrim.com
SUMMARY:Adaptive Cycling Weekly Tucson Ride
DESCRIPTION:Southern Arizona Adaptive Sports has a large and diverse collection of cycles for use by persons with physical disabilities\, including recumbent trikes\, hand-cycles and tandems. At our Adaptive Cycling Center\, we offer free community programs for athletes and participants of all ages and skill levels.  We are continually growing and welcome new participants and supporters.\n\n\n\n  \nCurrently on Wednesdays and Saturday. Check the website for additional opportunities and date changes.
URL:https://bikepilgrim.com/event/adaptive-cycling-weekly-tucson-ride-2/2030-09-11/
LOCATION:Sam Lena Park\, 3400 S. Country Club\, Tucson\, AZ\, 85713
CATEGORIES:Adaptive Cycling,Arizona,The Loop,Tucson,Volunteer
ORGANIZER;CN="Southern Arizona Adaptive Sports":MAILTO:Info@soazadaptivesports.org
END:VEVENT
BEGIN:VEVENT
DTSTART;TZID=America/Phoenix:20300918T070000
DTEND;TZID=America/Phoenix:20300918T100000
DTSTAMP:20260425T061528
CREATED:20251008T192943Z
LAST-MODIFIED:20251008T192944Z
UID:10005662-1915945200-1915956000@bikepilgrim.com
SUMMARY:Adaptive Cycling Weekly Tucson Ride
DESCRIPTION:Southern Arizona Adaptive Sports has a large and diverse collection of cycles for use by persons with physical disabilities\, including recumbent trikes\, hand-cycles and tandems. At our Adaptive Cycling Center\, we offer free community programs for athletes and participants of all ages and skill levels.  We are continually growing and welcome new participants and supporters.\n\n\n\n  \nCurrently on Wednesdays and Saturday. Check the website for additional opportunities and date changes.
URL:https://bikepilgrim.com/event/adaptive-cycling-weekly-tucson-ride-2/2030-09-18/
LOCATION:Sam Lena Park\, 3400 S. Country Club\, Tucson\, AZ\, 85713
CATEGORIES:Adaptive Cycling,Arizona,The Loop,Tucson,Volunteer
ORGANIZER;CN="Southern Arizona Adaptive Sports":MAILTO:Info@soazadaptivesports.org
END:VEVENT
BEGIN:VEVENT
DTSTART;TZID=America/Phoenix:20300925T070000
DTEND;TZID=America/Phoenix:20300925T100000
DTSTAMP:20260425T061528
CREATED:20251008T192943Z
LAST-MODIFIED:20251008T192944Z
UID:10005663-1916550000-1916560800@bikepilgrim.com
SUMMARY:Adaptive Cycling Weekly Tucson Ride
DESCRIPTION:Southern Arizona Adaptive Sports has a large and diverse collection of cycles for use by persons with physical disabilities\, including recumbent trikes\, hand-cycles and tandems. At our Adaptive Cycling Center\, we offer free community programs for athletes and participants of all ages and skill levels.  We are continually growing and welcome new participants and supporters.\n\n\n\n  \nCurrently on Wednesdays and Saturday. Check the website for additional opportunities and date changes.
URL:https://bikepilgrim.com/event/adaptive-cycling-weekly-tucson-ride-2/2030-09-25/
LOCATION:Sam Lena Park\, 3400 S. Country Club\, Tucson\, AZ\, 85713
CATEGORIES:Adaptive Cycling,Arizona,The Loop,Tucson,Volunteer
ORGANIZER;CN="Southern Arizona Adaptive Sports":MAILTO:Info@soazadaptivesports.org
END:VEVENT
BEGIN:VEVENT
DTSTART;TZID=America/Phoenix:20301002T070000
DTEND;TZID=America/Phoenix:20301002T100000
DTSTAMP:20260425T061528
CREATED:20251008T192943Z
LAST-MODIFIED:20251008T192944Z
UID:10005664-1917154800-1917165600@bikepilgrim.com
SUMMARY:Adaptive Cycling Weekly Tucson Ride
DESCRIPTION:Southern Arizona Adaptive Sports has a large and diverse collection of cycles for use by persons with physical disabilities\, including recumbent trikes\, hand-cycles and tandems. At our Adaptive Cycling Center\, we offer free community programs for athletes and participants of all ages and skill levels.  We are continually growing and welcome new participants and supporters.\n\n\n\n  \nCurrently on Wednesdays and Saturday. Check the website for additional opportunities and date changes.
URL:https://bikepilgrim.com/event/adaptive-cycling-weekly-tucson-ride-2/2030-10-02/
LOCATION:Sam Lena Park\, 3400 S. Country Club\, Tucson\, AZ\, 85713
CATEGORIES:Adaptive Cycling,Arizona,The Loop,Tucson,Volunteer
ORGANIZER;CN="Southern Arizona Adaptive Sports":MAILTO:Info@soazadaptivesports.org
END:VEVENT
END:VCALENDAR