BEGIN:VCALENDAR
VERSION:2.0
PRODID:-//BikePilgrim.com - ECPv6.3.3.1//NONSGML v1.0//EN
CALSCALE:GREGORIAN
METHOD:PUBLISH
X-WR-CALNAME:BikePilgrim.com
X-ORIGINAL-URL:https://bikepilgrim.com
X-WR-CALDESC:Events for BikePilgrim.com
REFRESH-INTERVAL;VALUE=DURATION:PT1H
X-Robots-Tag:noindex
X-PUBLISHED-TTL:PT1H
BEGIN:VTIMEZONE
TZID:America/Phoenix
BEGIN:STANDARD
TZOFFSETFROM:-0700
TZOFFSETTO:-0700
TZNAME:MST
DTSTART:20260101T000000
END:STANDARD
END:VTIMEZONE
BEGIN:VEVENT
DTSTART;TZID=America/Phoenix:20261102T183000
DTEND;TZID=America/Phoenix:20261102T203000
DTSTAMP:20260424T032915
CREATED:20240125T194949Z
LAST-MODIFIED:20240125T194949Z
UID:10001512-1793644200-1793651400@bikepilgrim.com
SUMMARY:Ben's Bikes MTB Night Ride
DESCRIPTION:This ride is typically between 12-15 miles.  It is a no drop mountain bike ride and alternates between Vail Trails and Fantasy Island. Call the shop to make sure what the route is for the week and that they are going. https://www.bensbikestucson.com/
URL:https://bikepilgrim.com/event/bens-bikes-mtb-night-ride/2026-11-02/
LOCATION:Ben’s Bikes\, 7431 S Houghton Rd Ste 100\, Tucson\, AZ\, 85747\, United States
CATEGORIES:Arizona,Mountain Bike,MTB,No Drop,Reoccurring Weekly Ride
ORGANIZER;CN="Ben's Bikes":MAILTO:info@bensbikestucson.com
END:VEVENT
BEGIN:VEVENT
DTSTART;TZID=America/Phoenix:20261109T183000
DTEND;TZID=America/Phoenix:20261109T203000
DTSTAMP:20260424T032915
CREATED:20240125T194949Z
LAST-MODIFIED:20240125T194949Z
UID:10001513-1794249000-1794256200@bikepilgrim.com
SUMMARY:Ben's Bikes MTB Night Ride
DESCRIPTION:This ride is typically between 12-15 miles.  It is a no drop mountain bike ride and alternates between Vail Trails and Fantasy Island. Call the shop to make sure what the route is for the week and that they are going. https://www.bensbikestucson.com/
URL:https://bikepilgrim.com/event/bens-bikes-mtb-night-ride/2026-11-09/
LOCATION:Ben’s Bikes\, 7431 S Houghton Rd Ste 100\, Tucson\, AZ\, 85747\, United States
CATEGORIES:Arizona,Mountain Bike,MTB,No Drop,Reoccurring Weekly Ride
ORGANIZER;CN="Ben's Bikes":MAILTO:info@bensbikestucson.com
END:VEVENT
BEGIN:VEVENT
DTSTART;TZID=America/Phoenix:20261116T183000
DTEND;TZID=America/Phoenix:20261116T203000
DTSTAMP:20260424T032915
CREATED:20240125T194949Z
LAST-MODIFIED:20240125T194949Z
UID:10001514-1794853800-1794861000@bikepilgrim.com
SUMMARY:Ben's Bikes MTB Night Ride
DESCRIPTION:This ride is typically between 12-15 miles.  It is a no drop mountain bike ride and alternates between Vail Trails and Fantasy Island. Call the shop to make sure what the route is for the week and that they are going. https://www.bensbikestucson.com/
URL:https://bikepilgrim.com/event/bens-bikes-mtb-night-ride/2026-11-16/
LOCATION:Ben’s Bikes\, 7431 S Houghton Rd Ste 100\, Tucson\, AZ\, 85747\, United States
CATEGORIES:Arizona,Mountain Bike,MTB,No Drop,Reoccurring Weekly Ride
ORGANIZER;CN="Ben's Bikes":MAILTO:info@bensbikestucson.com
END:VEVENT
BEGIN:VEVENT
DTSTART;TZID=America/Phoenix:20261123T183000
DTEND;TZID=America/Phoenix:20261123T203000
DTSTAMP:20260424T032915
CREATED:20240125T194949Z
LAST-MODIFIED:20240125T194949Z
UID:10001515-1795458600-1795465800@bikepilgrim.com
SUMMARY:Ben's Bikes MTB Night Ride
DESCRIPTION:This ride is typically between 12-15 miles.  It is a no drop mountain bike ride and alternates between Vail Trails and Fantasy Island. Call the shop to make sure what the route is for the week and that they are going. https://www.bensbikestucson.com/
URL:https://bikepilgrim.com/event/bens-bikes-mtb-night-ride/2026-11-23/
LOCATION:Ben’s Bikes\, 7431 S Houghton Rd Ste 100\, Tucson\, AZ\, 85747\, United States
CATEGORIES:Arizona,Mountain Bike,MTB,No Drop,Reoccurring Weekly Ride
ORGANIZER;CN="Ben's Bikes":MAILTO:info@bensbikestucson.com
END:VEVENT
BEGIN:VEVENT
DTSTART;TZID=America/Phoenix:20261130T183000
DTEND;TZID=America/Phoenix:20261130T203000
DTSTAMP:20260424T032915
CREATED:20240125T194949Z
LAST-MODIFIED:20240125T194949Z
UID:10001516-1796063400-1796070600@bikepilgrim.com
SUMMARY:Ben's Bikes MTB Night Ride
DESCRIPTION:This ride is typically between 12-15 miles.  It is a no drop mountain bike ride and alternates between Vail Trails and Fantasy Island. Call the shop to make sure what the route is for the week and that they are going. https://www.bensbikestucson.com/
URL:https://bikepilgrim.com/event/bens-bikes-mtb-night-ride/2026-11-30/
LOCATION:Ben’s Bikes\, 7431 S Houghton Rd Ste 100\, Tucson\, AZ\, 85747\, United States
CATEGORIES:Arizona,Mountain Bike,MTB,No Drop,Reoccurring Weekly Ride
ORGANIZER;CN="Ben's Bikes":MAILTO:info@bensbikestucson.com
END:VEVENT
END:VCALENDAR