BEGIN:VCALENDAR
VERSION:2.0
PRODID:-//BikePilgrim.com - ECPv6.3.3.1//NONSGML v1.0//EN
CALSCALE:GREGORIAN
METHOD:PUBLISH
X-WR-CALNAME:BikePilgrim.com
X-ORIGINAL-URL:https://bikepilgrim.com
X-WR-CALDESC:Events for BikePilgrim.com
REFRESH-INTERVAL;VALUE=DURATION:PT1H
X-Robots-Tag:noindex
X-PUBLISHED-TTL:PT1H
BEGIN:VTIMEZONE
TZID:America/Phoenix
BEGIN:STANDARD
TZOFFSETFROM:-0700
TZOFFSETTO:-0700
TZNAME:MST
DTSTART:20250101T000000
END:STANDARD
END:VTIMEZONE
BEGIN:VEVENT
DTSTART;TZID=America/Phoenix:20251213T170000
DTEND;TZID=America/Phoenix:20251213T210000
DTSTAMP:20260425T085242
CREATED:20251008T004243Z
LAST-MODIFIED:20251008T004252Z
UID:10003997-1765645200-1765659600@bikepilgrim.com
SUMMARY:The 28th Annual BICAS Art Auction
DESCRIPTION:The 28th Annual Art Auction will be on Saturday\, December 13th.\n\nThis year\, join us in celebrating thirty years since the first ever BICAS Art Auction in 1995! \nThis year’s all-ages bash sure promises to be something special — with food\, drinks\, music\, family fun\, and in the place of pride: unique\, one-of-a-kind bicycle-inspired art for silent auction\, donated by incredible Tucson artists who support our nonprofit mission of transportation accessibility! To keep this work rolling\, this year we are asking for a suggested $10-$15 donation to explore the unique\, incredible art featured here. The Art Auction will be on Saturday\, December 13th\, from 5 PM to 9 PM! Bids close at 8 PM. All proceeds go towards accessibility of bicycles and the arts! Slide through for photos from the past few years!
URL:https://bikepilgrim.com/event/the-28th-annual-bicas-art-auction/
LOCATION:BICAS – Bicycle Inter-Community Art and Salvage\, 2001 N 7th Ave\, Tucson\, AZ\, 85705
CATEGORIES:Art,BICAS
END:VEVENT
END:VCALENDAR