BEGIN:VCALENDAR
VERSION:2.0
PRODID:-//BikePilgrim.com - ECPv6.3.3.1//NONSGML v1.0//EN
CALSCALE:GREGORIAN
METHOD:PUBLISH
X-ORIGINAL-URL:https://bikepilgrim.com
X-WR-CALDESC:Events for BikePilgrim.com
REFRESH-INTERVAL;VALUE=DURATION:PT1H
X-Robots-Tag:noindex
X-PUBLISHED-TTL:PT1H
BEGIN:VTIMEZONE
TZID:America/Phoenix
BEGIN:STANDARD
TZOFFSETFROM:-0700
TZOFFSETTO:-0700
TZNAME:MST
DTSTART:20260101T000000
END:STANDARD
END:VTIMEZONE
BEGIN:VEVENT
DTSTART;TZID=America/Phoenix:20260425T190000
DTEND;TZID=America/Phoenix:20260425T190000
DTSTAMP:20260423T051239
CREATED:20240207T223942Z
LAST-MODIFIED:20251008T170904Z
UID:10002083-1777143600-1777143600@bikepilgrim.com
SUMMARY:SINISTER NIGHT RIDES
DESCRIPTION:  \nExperience the magic of night trail riding in the Sonoran desert at the Sinister Night Trail Rides held on a rolling 7.3 mile loop at San Tan Mountain Regional Park. This is a perfect beginner night ride with distances for all. Ride past towering saguaro cactus under the night stars! \nThis race kicks off the Insomniac Night Trail Ride Series with events across the greater Phoenix\, Arizona area. Join us and “Carpe Noctem” to “seize the night”! Don’t miss the chance to ride these super flowy trails of San Tan Regional Park.
URL:https://bikepilgrim.com/event/sinister-night-rides/
LOCATION:San Tan Regional Park\, 6533 W. Phillips Road\, Queen Creek\, AZ\, 85144
CATEGORIES:Arizona,cave creek,Entry Fee,Mountain Bike,Race
ORGANIZER;CN="Aravaipa Rides":MAILTO:info@aravaiparides.com
END:VEVENT
BEGIN:VEVENT
DTSTART;TZID=America/Phoenix:20260522T193000
DTEND;TZID=America/Phoenix:20260522T193000
DTSTAMP:20260423T051239
CREATED:20240207T225040Z
LAST-MODIFIED:20251008T171103Z
UID:10002085-1779478200-1779478200@bikepilgrim.com
SUMMARY:ADRENALINE NIGHT RIDES
DESCRIPTION:  \nExperience the magic of night trail riding in the Sonoran desert at the Adrenaline Night Trail Rides held on a rolling 9.5 mile loop at McDowell Mountain Regional Park. This is a perfect beginner night ride with distances for all. Ride past towering saguaro cactus under the night stars! \nThis race is the 2nd in the Insomniac Night Trail Ride Series with events across the greater Phoenix\, Arizona area. Join us and “Carpe Noctem” to “seize the night”! \n\n\n\n\n\n\n\n\n\n\nRegister Now
URL:https://bikepilgrim.com/event/adrenaline-night-rides/
LOCATION:McDowell Mountain Park\, 16300 McDowell Mountain Park Dr.\, Fountain Hills\, AZ\, 85268
CATEGORIES:Arizona,Mountain Bike,Race
ORGANIZER;CN="Aravaipa Rides":MAILTO:info@aravaiparides.com
END:VEVENT
BEGIN:VEVENT
DTSTART;TZID=America/Phoenix:20260621T070000
DTEND;TZID=America/Phoenix:20260621T170000
DTSTAMP:20260423T051239
CREATED:20240207T223307Z
LAST-MODIFIED:20251008T171201Z
UID:10002082-1782025200-1782061200@bikepilgrim.com
SUMMARY:BIG WOODY RIDES
DESCRIPTION:The Big Woody course will start in Fort Tuthill and rip around Highland Trail before climbing onto Forest Service roads and connecting to Rogers Trail before heading back down into the park to finish on Soldiers trail. This is an intermediate course with a few technical spots to navigate. All categories will loop the same course for their given amount of time or distance. \nThe loop is comprised of the Highland Trail\, Soldier Trail\, Flagstaff Loop Trail\, Rogers Lake Connector as well as multiple forest roads. \nRiders will experience a variety of conditions and challenges while looping through Coconino National Forest. We hope you’ll join us for a fun and challenging ride in the pines! \n \n 
URL:https://bikepilgrim.com/event/big-woody-rides/
LOCATION:Fort Tuthill\, 415 Battalion Rd\, Flagstaff\, AZ\, 86001
CATEGORIES:Arizona,Entry Fee,Mountain Bike,MTB
ORGANIZER;CN="Aravaipa Rides":MAILTO:info@aravaiparides.com
END:VEVENT
BEGIN:VEVENT
DTSTART;TZID=America/Phoenix:20260710T190000
DTEND;TZID=America/Phoenix:20260710T190000
DTSTAMP:20260423T051240
CREATED:20240207T225535Z
LAST-MODIFIED:20251008T171254Z
UID:10002086-1783710000-1783710000@bikepilgrim.com
SUMMARY:STUNNER NIGHT RIDES
DESCRIPTION:  \nJoin us for Stunner Night Rides at beautiful Usery Mountain Regional Park! This course utilizes the Noso\, Blevins\, Chain Fruit\, Lost Sheep\, Moon Rock\, Levee\, Ruidoso\, & Meridian Trails. Wind through Chain Fruit cholla at the base of Pass Mountain. \nThis race is part of the Insomniac Night Trail Ride Series with events all across the state of Arizona. Join us and “Carpe Noctem” to “seize the night”! \n\n\n\n\n\n\n\n\n\n\n\n\n\n\n\n\n\n\nRACE SUMMARY
URL:https://bikepilgrim.com/event/stunner-night-rides/
LOCATION:Usery Mountain Regional Park\, 3939 N. Usery Pass Rd\, Mesa\, AZ\, 85207
CATEGORIES:Arizona,Entry Fee,meas,Mountain Bike,MTB,Race
ORGANIZER;CN="Aravaipa Rides":MAILTO:info@aravaiparides.com
END:VEVENT
BEGIN:VEVENT
DTSTART;TZID=America/Phoenix:20260807T190000
DTEND;TZID=America/Phoenix:20260807T190000
DTSTAMP:20260423T051240
CREATED:20240207T230405Z
LAST-MODIFIED:20251008T171408Z
UID:10002087-1786129200-1786129200@bikepilgrim.com
SUMMARY:VERTIGO NIGHT RIDES
DESCRIPTION:  \nExperience the magic of night trail riding in the Sonoran desert at the Vertigo Night Trail Rides held on a rolling 7 mile loop at the White Tank Mountain Regional Park competitive track. This is a perfect beginner night ride with distances for all. Ride past towering saguaro cactus under the night stars! \nThis race is part of the Insomniac Night Trail Ride Series with events all across the state of Arizona. Join us and “Carpe Noctem” to “seize the night”! \n\n\n\n\n\n\n\n\n\n\nRegister Now
URL:https://bikepilgrim.com/event/vertigo-night-rides/
LOCATION:White Tanks\, 20304 W. White Tank Mountain Rd.\, Wadell\, AZ
CATEGORIES:Arizona,Entry Fee,Mountain Bike,MTB
ORGANIZER;CN="Aravaipa Rides":MAILTO:info@aravaiparides.com
END:VEVENT
BEGIN:VEVENT
DTSTART;TZID=America/Phoenix:20260919T190000
DTEND;TZID=America/Phoenix:20260919T190000
DTSTAMP:20260423T051240
CREATED:20251008T172045Z
LAST-MODIFIED:20251008T172839Z
UID:10004966-1789844400-1789844400@bikepilgrim.com
SUMMARY:Jangover Night Rides
DESCRIPTION:Jangover Night Rides\n6 Hour Duo & Solo 31 Mile Solo 15.5 Mile Solo | 15.5 Mile Junior\n\n\n\n\n\nExperience the magic of night trail riding in the Sonoran desert at the Jangover Night Trail Rides held on a rolling 15.5 mile loop at McDowell Mountain Regional Park. This is a perfect night ride with distances for all. Ride past towering saguaro cactus under the night stars! \nThis race wraps up the 2025 Insomniac Night Trail Ride Series with events across the greater Phoenix\, Arizona area. Join us and “Carpe Noctem” to “seize the night”!
URL:https://bikepilgrim.com/event/jangover-night-rides/
LOCATION:McDowell Mountain Park\, 16300 McDowell Mountain Park Dr.\, Fountain Hills\, AZ\, 85268
CATEGORIES:Arizona,Mountain Bike,Race
ORGANIZER;CN="Aravaipa Rides":MAILTO:info@aravaiparides.com
END:VEVENT
END:VCALENDAR