BEGIN:VCALENDAR
VERSION:2.0
PRODID:-//BikePilgrim.com - ECPv6.3.3.1//NONSGML v1.0//EN
CALSCALE:GREGORIAN
METHOD:PUBLISH
X-WR-CALNAME:BikePilgrim.com
X-ORIGINAL-URL:https://bikepilgrim.com
X-WR-CALDESC:Events for BikePilgrim.com
REFRESH-INTERVAL;VALUE=DURATION:PT1H
X-Robots-Tag:noindex
X-PUBLISHED-TTL:PT1H
BEGIN:VTIMEZONE
TZID:America/Phoenix
BEGIN:STANDARD
TZOFFSETFROM:-0700
TZOFFSETTO:-0700
TZNAME:MST
DTSTART:20240101T000000
END:STANDARD
END:VTIMEZONE
BEGIN:VEVENT
DTSTART;TZID=America/Phoenix:20240309T080000
DTEND;TZID=America/Phoenix:20240309T120000
DTSTAMP:20260423T121921
CREATED:20240205T165201Z
LAST-MODIFIED:20240205T165201Z
UID:10001926-1709971200-1709985600@bikepilgrim.com
SUMMARY:Marana Rotary Tour De Cookie Bike Ride
DESCRIPTION:he 2024 event is coming together. The route is set. Shirts\, wristbands\, and bags are being ordered. Booth volunteers are being finalized. Sponsorships are coming in. I can’t wait for March 9\, 2024!!!\nLast year\, we had to close rider registrations early because we hit our 400-rider cap. This year\, we are preparing our booths to be ready for 500 riders. So please\, register soon to guarantee your spot in the Tour.\nThe 2024 route was adjusted because of construction on The Loop path northwest toward Marana. However\, I am excited that this year’s route takes riders northeast toward Oro Valley and back.\nRiders will have several options:\nStart at Rillito Racetrack and ride 12 miles\, turning around at El Camino de la Tierra cookie booth.\nWant a few more cookies? Add a section along CDO Wash.\nWant to start your ride in Oro Valley? Saddle up at Steam Pump Ranch and ride along the Canada del Oro for a 17.5 mile-ride to the racetrack.\nTo maximize calorie replacement\, ride all 33.5 miles of the Tour de Cookie. It should be a blast!!\n\nRegister Here\nhttps://rotarytourdecookie.org/sign-up?fbclid=IwAR12SiDAVL731YHRuPUPvrqigFFHG0uhYicd5t0ZGX5V97pThBsuB3mBxsY
URL:https://bikepilgrim.com/event/marana-rotary-tour-de-cookie-bike-ride/
LOCATION:Rillito Park\, 4502 N. 1st Ave\, Tucson\, AZ\, 85718
CATEGORIES:All Bikes,Arizona,Entry Fee,The Loop,Tucson
ORGANIZER;CN="Marana Rotary":MAILTO:https://www.maranarotary.org/singleemail/contactus
END:VEVENT
END:VCALENDAR